BEGIN:VCALENDAR
VERSION:2.0
PRODID:-//Opolskie Centrum Rozwoju Gospodarki - ECPv6.15.18//NONSGML v1.0//EN
CALSCALE:GREGORIAN
METHOD:PUBLISH
X-WR-CALNAME:Opolskie Centrum Rozwoju Gospodarki
X-ORIGINAL-URL:https://ocrg.opolskie.pl
X-WR-CALDESC:Wydarzenia dla Opolskie Centrum Rozwoju Gospodarki
REFRESH-INTERVAL;VALUE=DURATION:PT1H
X-Robots-Tag:noindex
X-PUBLISHED-TTL:PT1H
BEGIN:VTIMEZONE
TZID:Europe/Warsaw
BEGIN:DAYLIGHT
TZOFFSETFROM:+0100
TZOFFSETTO:+0200
TZNAME:CEST
DTSTART:20250330T010000
END:DAYLIGHT
BEGIN:STANDARD
TZOFFSETFROM:+0200
TZOFFSETTO:+0100
TZNAME:CET
DTSTART:20251026T010000
END:STANDARD
BEGIN:DAYLIGHT
TZOFFSETFROM:+0100
TZOFFSETTO:+0200
TZNAME:CEST
DTSTART:20260329T010000
END:DAYLIGHT
BEGIN:STANDARD
TZOFFSETFROM:+0200
TZOFFSETTO:+0100
TZNAME:CET
DTSTART:20261025T010000
END:STANDARD
BEGIN:DAYLIGHT
TZOFFSETFROM:+0100
TZOFFSETTO:+0200
TZNAME:CEST
DTSTART:20270328T010000
END:DAYLIGHT
BEGIN:STANDARD
TZOFFSETFROM:+0200
TZOFFSETTO:+0100
TZNAME:CET
DTSTART:20271031T010000
END:STANDARD
END:VTIMEZONE
BEGIN:VEVENT
DTSTART;TZID=Europe/Warsaw:20260305T090000
DTEND;TZID=Europe/Warsaw:20260305T130000
DTSTAMP:20260422T135159
CREATED:20260213T070713Z
LAST-MODIFIED:20260213T070713Z
UID:4657-1772701200-1772715600@ocrg.opolskie.pl
SUMMARY:Spotkanie HR: Dyrektywa dotycząca luki płacowej oraz jej wpływ na pracodawców i działy HR
DESCRIPTION:Przedsiębiorco\, bądź o krok przed zmianami w prawie pracy. \nKancelaria SDZLEGAL SCHINDHELM Kancelaria Prawna Schampera\, Dubis\, Zając i Wspólnicy sp. j. serdecznie zaprasza na kolejne spotkanie Opolskiego Klubu HR\, które odbędzie się 5 marca br. o godz. 9:00 w Hotelu DeSilva Premium w Opolu (ul. Powolnego 10). \nGościem specjalnym wydarzenia będzie Pan Grzegorz Czapla\, Okręgowy Inspektor Pracy w Opolu. Podczas spotkania omówimy kluczowe zagadnienia związane z nadchodzącą dyrektywą dotyczącą luki płacowej oraz jej wpływem na pracodawców i działy HR. \nTo doskonała okazja do zdobycia aktualnej wiedzy\, wymiany doświadczeń i nawiązania wartościowych kontaktów biznesowych. \nDołącz do grona przedsiębiorców\, którzy świadomie przygotowują swoje organizacje na nadchodzące zmiany. \n \nAgenda spotkania: \n09:00 – 09:30 – rejestracja gości i poranna kawa \n09:30 – 09:40 – przywitanie uczestników \n09:40 – 12:40 – wystąpienia prelegentów \n12:40 – Networking \n  \nPlanowane zakończenie wydarzenia: 13:00 \nPodczas spotkania dostępne będzie stoisko informacyjne Państwowej Inspekcji Pracy Okręgowego Inspektoratu Pracy w Opolu wraz z ekspertami. \nRejestracja: zgłoszenia prosimy przesyłać na adres: \ninvest@ocrg.opolskie.pl \nProsimy o zgłoszenia po jednej osobie z firmy/organizacji. \n 
URL:https://ocrg.opolskie.pl/event/spotkanie-hr-dyrektywa-dotyczaca-luki-placowej-oraz-jej-wplyw-na-pracodawcow-i-dzialy-hr/
LOCATION:Hotel DeSilva Opole\, Powolnego 10\, Opole\, 45-078\, Poland
END:VEVENT
BEGIN:VEVENT
DTSTART;TZID=Europe/Warsaw:20260309T113000
DTEND;TZID=Europe/Warsaw:20260309T133000
DTSTAMP:20260422T135159
CREATED:20260213T071908Z
LAST-MODIFIED:20260213T111739Z
UID:4660-1773055800-1773063000@ocrg.opolskie.pl
SUMMARY:Dzień Kobiet z Biznesem
DESCRIPTION:Czy wiesz\, że kobiety coraz częściej stawiają na rozwój osobisty\, relacje biznesowe i inspirujące spotkania\, które dodają odwagi do działania? A networking w kobiecym gronie to dziś jedna z najskuteczniejszych dróg do nowych możliwości zawodowych i motywacji?  \nIII Dzień Kobiet z Biznesem. „Kobiety. Biznes. Siła relacji i wsparcia.” \nW programie inspirująca rozmowa z niezwykłymi kobietami: Marta Klepka i Dorota Wellman\, a także przestrzeń do wymiany doświadczeń\, budowania relacji i wzmacniania pewności siebie. \nTo spotkanie dla kobiet\, które chcą:\n✔ rozwijać swoje kompetencje\n✔ znaleźć świeżą motywację\n✔ poznać wartościowe osoby i nowe perspektywy \n  \n  \n9 marca |  Aula Uniwersytet WSB Merito w Opolu\, ul. Kośnego 72 \nProgram” \n11:30 – rejestracja\n12:00 – powitanie\n12:15 – wystąpienie Daria Linkowska\n12:30 – rozmowa specjalna\n13:30 – networking \nUdział jest bezpłatny\, ale liczba miejsc ograniczona.
URL:https://ocrg.opolskie.pl/event/dzien-kobiet-z-biznesem/
LOCATION:Uniwersytet WSB MERITO Opole\, Kośnego 72
END:VEVENT
BEGIN:VEVENT
DTSTART;TZID=Europe/Warsaw:20260325T100000
DTEND;TZID=Europe/Warsaw:20260325T130000
DTSTAMP:20260422T135159
CREATED:20260318T062402Z
LAST-MODIFIED:20260318T062402Z
UID:4862-1774432800-1774443600@ocrg.opolskie.pl
SUMMARY:„Nauka – Biznes – Samorząd” pt. Bezpieczeństwo jako fundament współpracy nauki\, biznesu i samorządu
DESCRIPTION:Zapraszamy do udziału w VI konferencji „Nauka – Biznes – Samorząd” pt. Bezpieczeństwo jako fundament współpracy nauki\, biznesu i samorządu\, która odbędzie się 25 marca 2026 r. w Centrum Szkoleniowo Rekreacyjnym „5 poziom” w Oleśnie. \nCelem konferencji jest stworzenie przestrzeni do dialogu oraz wymiany doświadczeń pomiędzy przedstawicielami środowisk naukowych\, biznesowych oraz samorządowych w zakresie budowania bezpiecznej i odpowiedzialnej współpracy. Współczesne wyzwania społeczne\, technologiczne i gospodarcze wymagają integracji wiedzy\, innowacji oraz odpowiedzialności instytucjonalnej. \n \nW programie m.in.: \n• kompetencje przyszłości na styku edukacji\, technologii i odpowiedzialności społecznej \n• cyberbezpieczeństwo i ochrona danych w praktyce (PKO BP) \n• psychologiczne aspekty ryzyka \n• debata ekspercka: „Kompetencje dla bezpieczeństwa regionu – wspólna odpowiedzialność” \nProsimy o potwierdzenie udziału poprzez formularz zgłoszeniowy dostępny pod linkiem: \nhttps://docs.google.com/forms/d/e/1FAIpQLSd2LaQOwOBLH-gcK4AIXhBjEf0kajAlOmVBZtYyLBHz0cMYpA/viewform?usp=header \n 
URL:https://ocrg.opolskie.pl/event/nauka-biznes-samorzad-pt-bezpieczenstwo-jako-fundament-wspolpracy-nauki-biznesu-i-samorzadu/
LOCATION:Centrum Szkoleniowo Rekreacyjne „5 poziom”\, Wachowska 7\, Olesno
END:VEVENT
BEGIN:VEVENT
DTSTART;TZID=Europe/Warsaw:20260330T080000
DTEND;TZID=Europe/Warsaw:20260330T120000
DTSTAMP:20260422T135159
CREATED:20260319T061355Z
LAST-MODIFIED:20260319T061355Z
UID:4879-1774857600-1774872000@ocrg.opolskie.pl
SUMMARY:„Profesjonalna rekrutacja – nowe przepisy\, prawo i praktyka
DESCRIPTION:Opolska Izba Gospodarcza zaprasza na bezpłatne szkolenie. \nChcesz prowadzić rekrutację zgodnie z najnowszymi przepisami i jednocześnie robić to skutecznie w praktyce? \nTo szkolenie jest właśnie dla Ciebie. \n30 marca 2026 r. (9:00–12:00) zapraszamy do Opola (ul. Budowlanych 129/3\, III piętro – sala konferencyjna\, siedziba Atlantis Deweloper) na spotkanie pt.\n„Profesjonalna rekrutacja – nowe przepisy\, prawo i praktyka”. \nPodczas szkolenia w przystępny sposób omówimy aktualne regulacje prawne oraz pokażemy\, jak stosować je w codziennej pracy. To świetna okazja\, aby uporządkować wiedzę\, uniknąć błędów i przygotować się na nadchodzące zmiany wynikające z prawa krajowego i unijnego. \n \nDlaczego warto wziąć udział? \n\n\npoznasz najnowsze przepisy dotyczące rekrutacji\, \n\n\ndowiesz się\, jak tworzyć zgodne z prawem ogłoszenia o pracę\, \n\n\nzrozumiesz zasady przeciwdziałania dyskryminacji\, \n\n\nprzygotujesz się na zmiany w zakresie jawności wynagrodzeń\, \n\n\nuporządkujesz kwestie przetwarzania danych kandydatów\, \n\n\npoznasz praktyczne aspekty weryfikacji kandydatów\, \n\n\ndowiesz się\, jak nowe regulacje dotyczące równości wynagrodzeń wpłyną na Twoją firmę. \n\n\nDla kogo jest to szkolenie?\nZapraszamy w szczególności: \n\n\npracodawców i właścicieli firm\, \n\n\nspecjalistów i menedżerów HR\, \n\n\nosoby prowadzące procesy rekrutacyjne\, \n\n\nkadrę zarządzającą i osoby zajmujące się sprawami pracowniczymi\, \n\n\nwszystkich zainteresowanych tematyką. \n\n\nSzkolenie poprowadzą: \n\n\nBeata Mroczka-Frączek – Kierownik ds. HR\, INVENIO Sp. z o.o. \n\n\nJakub Sawicki – Radca prawny\, KDS Kancelaria Adwokatów i Radców Prawnych Karolina Dorda-Sawicka i Partnerzy sp. p. \n\n\nOrganizatorzy: Opolska Izba Gospodarcza\, INVENIO oraz Opolskie Centrum Rozwoju Gospodarki. \nUdział jest bezpłatny! \n📩 Zgłoszenia przyjmujemy do 25 marca 2026 r. \n\n\nmailowo: biuro@oig.opole.pl \n\n\ntelefonicznie: 784 038 500 \n\n\nW zgłoszeniu prosimy o podanie:\nimię i nazwisko\, nazwę firmy oraz dane kontaktowe (e-mail\, telefon). \n⚠️ Liczba miejsc jest ograniczona (maks. 2 osoby z jednej firmy)\, dlatego warto zapisać się jak najszybciej. Potwierdzenie udziału prześlemy w osobnej wiadomości.
URL:https://ocrg.opolskie.pl/event/profesjonalna-rekrutacja-nowe-przepisy-prawo-i-praktyka/
LOCATION:Atlantis Deweloper\, Budowlanych 129/3\, Opole\, opolskie\, Poland
END:VEVENT
END:VCALENDAR